BEGIN:VCALENDAR
VERSION:2.0
PRODID:-//E4 Center - ECPv6.15.20//NONSGML v1.0//EN
CALSCALE:GREGORIAN
METHOD:PUBLISH
X-WR-CALNAME:E4 Center
X-ORIGINAL-URL:https://e4center.org
X-WR-CALDESC:Events for E4 Center
REFRESH-INTERVAL;VALUE=DURATION:PT1H
X-Robots-Tag:noindex
X-PUBLISHED-TTL:PT1H
BEGIN:VTIMEZONE
TZID:America/Chicago
BEGIN:DAYLIGHT
TZOFFSETFROM:-0600
TZOFFSETTO:-0500
TZNAME:CDT
DTSTART:20190310T080000
END:DAYLIGHT
BEGIN:STANDARD
TZOFFSETFROM:-0500
TZOFFSETTO:-0600
TZNAME:CST
DTSTART:20191103T070000
END:STANDARD
BEGIN:DAYLIGHT
TZOFFSETFROM:-0600
TZOFFSETTO:-0500
TZNAME:CDT
DTSTART:20200308T080000
END:DAYLIGHT
BEGIN:STANDARD
TZOFFSETFROM:-0500
TZOFFSETTO:-0600
TZNAME:CST
DTSTART:20201101T070000
END:STANDARD
BEGIN:DAYLIGHT
TZOFFSETFROM:-0600
TZOFFSETTO:-0500
TZNAME:CDT
DTSTART:20210314T080000
END:DAYLIGHT
BEGIN:STANDARD
TZOFFSETFROM:-0500
TZOFFSETTO:-0600
TZNAME:CST
DTSTART:20211107T070000
END:STANDARD
BEGIN:DAYLIGHT
TZOFFSETFROM:-0600
TZOFFSETTO:-0500
TZNAME:CDT
DTSTART:20220313T080000
END:DAYLIGHT
BEGIN:STANDARD
TZOFFSETFROM:-0500
TZOFFSETTO:-0600
TZNAME:CST
DTSTART:20221106T070000
END:STANDARD
END:VTIMEZONE
BEGIN:VEVENT
DTSTART;TZID=America/Chicago:20210225T130000
DTEND;TZID=America/Chicago:20210225T150000
DTSTAMP:20260423T040412
CREATED:20201204T211903Z
LAST-MODIFIED:20210217T172040Z
UID:626-1614258000-1614265200@e4center.org
SUMMARY:Baby Boomers and Substance Misuse: What you need to know and what you can do about it
DESCRIPTION:Baby Boomers and Substance Misuse: What you need to know and what you can do about it \nIn recent years\, the abuse of alcohol and other psychoactive drugs among older adults has been increasing. Also\, there is a growing proportion of individuals in the U.S. who are near or in retirement\, and a larger cohort of ‘Baby Boomers’ who will reach later life in the coming decades. There is growing evidence that older adults today drink alcohol\, and abuse prescription and illicit drugs\, at higher levels than previously reported. This webinar will highlight key recommendations in the recently-published SAMHSA Treatment Improvement Protocol (TIP) #26: Treatment of Substance Use Disorder in Older Adults\, and will focus on the nature and extent of substance use and abuse in later life\, best-practices for screening and identification of late-life substance abuse\, and brief motivational intervention strategies targeting older adults who misuse substances. \nPlease click here to register.
URL:https://e4center.org/calendar/revised-samhsa-csat-tip-on-treating-addiction-in-older-adults/
END:VEVENT
BEGIN:VEVENT
DTSTART;TZID=America/Chicago:20210114T110000
DTEND;TZID=America/Chicago:20210114T120000
DTSTAMP:20260423T040412
CREATED:20201121T161525Z
LAST-MODIFIED:20201204T211618Z
UID:440-1610622000-1610625600@e4center.org
SUMMARY:Suicide in Later Life: Clinical and Public Health Perspectives - Yeates Conwell\, PhD
DESCRIPTION:Older adulthood is a period of high risk for suicide. This presentation will review the epidemiology of suicide in later life\, the factors associate with self-injurious behavior in older adults\, and approaches to its prevention from both clinical and public health perspectives. We also will review the issues raised by the COVID-19 pandemic with regard to suicide and its prevention. \n\nAt the conclusion of this webinar participants will\n\nAppreciate the scope of the problem of suicide in older adults\nUnderstand the factors that place older people at increased risk for suicide\nBe familiar with the available evidence for effective approaches to its prevention.\n\n\n\nYeates Conwell\, MD is Professor and Vice Chair\, Co-Director\, Center for the Study and Prevention of Suicide; Director of the Geriatric Psychiatry Program\, Department of Psychiatry; Director\, University of Rochester Medical Center’s Office for Aging Research and Health Services. Expertise: nation’s leading expert on older adult suicide. \nPlease register here: https://zoom.us/meeting/register/tJ0rfuqoqz0tHNNvYPt9z1sMMn8JalnaQ82l
URL:https://e4center.org/calendar/suicide-in-later-life-clinical-and-public-health-perspectives/
LOCATION:Register in Zoom: https://zoom.us/meeting/register/tJ0rfuqoqz0tHNNvYPt9z1sMMn8JalnaQ82l
CATEGORIES:webinar
END:VEVENT
BEGIN:VEVENT
DTSTART;TZID=America/Chicago:20201208T120000
DTEND;TZID=America/Chicago:20201208T130000
DTSTAMP:20260423T040412
CREATED:20201121T160746Z
LAST-MODIFIED:20201201T153042Z
UID:436-1607428800-1607432400@e4center.org
SUMMARY:Holiday Drinking:  Helping Older Adults be Happier and Safer - Fred Blow\, PhD
DESCRIPTION:Using alcohol to cope places many older adults at heightened risk for negative consequences\, especially with social isolation during the coronavirus pandemic. This webinar will highlight the special risks of drinking among older individuals and how these risks are heightened over the holidays. Strategies that promote wellness that do not depend on alcohol consumption will be discussed. \nFrederic C. Blow\, Ph.D. is a Professor and Director of the Addiction Center in the Department of Psychiatry\, and a Senior Research Scientist at the Department of Veterans Affairs Center for Clinical Management Research at the Ann Arbor VA Healthcare System. He is a career researcher and educator in the field of alcohol and substance use screening\, interventions\, and treatments. His areas of research expertise include substance abuse screening and diagnosis for older adults\, alcohol and drug brief interventions in healthcare settings\, eHealth interventions\, substance abuse prevention\, serious mental illness and concurrent substance abuse\, mental health services research\, and implementation of evidence-based substance abuse and mental health practices.  www.umaddictioncenter.org
URL:https://e4center.org/calendar/holiday-drinking-helping-older-adults-be-happier-and-safer/
LOCATION:Register in Zoom: https://zoom.us/meeting/register/tJYqceChpjsiGtJ1nu42kUMUjCoRRHp6-wOT
CATEGORIES:webinar
END:VEVENT
END:VCALENDAR