BEGIN:VCALENDAR
VERSION:2.0
PRODID:-//E4 Center - ECPv6.15.20//NONSGML v1.0//EN
CALSCALE:GREGORIAN
METHOD:PUBLISH
X-WR-CALNAME:E4 Center
X-ORIGINAL-URL:https://e4center.org
X-WR-CALDESC:Events for E4 Center
REFRESH-INTERVAL;VALUE=DURATION:PT1H
X-Robots-Tag:noindex
X-PUBLISHED-TTL:PT1H
BEGIN:VTIMEZONE
TZID:America/Chicago
BEGIN:DAYLIGHT
TZOFFSETFROM:-0600
TZOFFSETTO:-0500
TZNAME:CDT
DTSTART:20230312T080000
END:DAYLIGHT
BEGIN:STANDARD
TZOFFSETFROM:-0500
TZOFFSETTO:-0600
TZNAME:CST
DTSTART:20231105T070000
END:STANDARD
BEGIN:DAYLIGHT
TZOFFSETFROM:-0600
TZOFFSETTO:-0500
TZNAME:CDT
DTSTART:20240310T080000
END:DAYLIGHT
BEGIN:STANDARD
TZOFFSETFROM:-0500
TZOFFSETTO:-0600
TZNAME:CST
DTSTART:20241103T070000
END:STANDARD
BEGIN:DAYLIGHT
TZOFFSETFROM:-0600
TZOFFSETTO:-0500
TZNAME:CDT
DTSTART:20250309T080000
END:DAYLIGHT
BEGIN:STANDARD
TZOFFSETFROM:-0500
TZOFFSETTO:-0600
TZNAME:CST
DTSTART:20251102T070000
END:STANDARD
END:VTIMEZONE
BEGIN:VEVENT
DTSTART;TZID=America/Chicago:20240529T140000
DTEND;TZID=America/Chicago:20240529T150000
DTSTAMP:20260424T190813
CREATED:20240404T201005Z
LAST-MODIFIED:20251001T185059Z
UID:3013-1716991200-1716994800@e4center.org
SUMMARY:Words Matter Wednesdays: Advancing Equity Through Language
DESCRIPTION:Promoting Equity for Asian American\, Native Hawaiian\, and Pacific Islander Populations presented by The AANHPI ‘Ohana Center of Excellence  \nDate and time: 05/29/24 from 2-3PM CT / 3-4PM ET / 12-1PM PST / 10-11AM HAST \nPlease join us for a series this May that will explore equitable terminology that promotes social justice for populations where language has often been used to shame individuals\, patronize\, enforce prejudice\, or limit visibility. Each session will provide updated language that helps advance equity within their population of focus. We encourage behavioral health professionals and those who interact with or write about these populations\, including those leading other Centers of Excellence\, Technology Transfer Centers\, and others administering programs aimed at increasing assess to mental health care to attend. Together\, we hope to move forward in advancing equity through language  \nLearning Objectives   \n\nIdentify language that is unhelpful to older AAPI individuals \nIdentify updated language that helps advance equity for AAPI individuals  \nUtilize effective language to promote equity for AAPI individuals \n\nPlease register here. \n 
URL:https://e4center.org/calendar/words-matter-wednesdays-advancing-equity-through-language-5/
CATEGORIES:webinar
END:VEVENT
END:VCALENDAR